BEGIN:VCALENDAR
VERSION:2.0
PRODID:-//Town of Hempstead Events - ECPv6.15.20//NONSGML v1.0//EN
CALSCALE:GREGORIAN
METHOD:PUBLISH
X-WR-CALNAME:Town of Hempstead Events
X-ORIGINAL-URL:https://townofhempsteadevents.com
X-WR-CALDESC:Events for Town of Hempstead Events
REFRESH-INTERVAL;VALUE=DURATION:PT1H
X-Robots-Tag:noindex
X-PUBLISHED-TTL:PT1H
BEGIN:VTIMEZONE
TZID:UTC
BEGIN:STANDARD
TZOFFSETFROM:+0000
TZOFFSETTO:+0000
TZNAME:UTC
DTSTART:20240101T000000
END:STANDARD
END:VTIMEZONE
BEGIN:VEVENT
DTSTART;TZID=UTC:20250725T170000
DTEND;TZID=UTC:20250725T220000
DTSTAMP:20260420T200646
CREATED:20250207T032831Z
LAST-MODIFIED:20260314T111758Z
UID:10000004-1753462800-1753480800@townofhempsteadevents.com
SUMMARY:Midsummer Concert
DESCRIPTION:Event Details\n			\n				\n				\n				\n				\n				Mark your calendars! Join Supervisor Don Clavin at Town Park\, Point Lookout on Saturday\, July 26 for an unforgettable Midsummer Celebration by the Shore! \nThis free\, all-day event is packed with family fun\, local flavor\, and live entertainment. Stroll through a vibrant craft market\, grab a bite from delicious food trucks\, and unwind at the lively beer garden. As the sun sets\, get ready to rock the night away with an incredible evening concert under the stars. with performances by:TavaresFrance JoliSugar Hill GangLimeAlishaThat 70’s Band \nIt’s the ultimate way to celebrate summer—you don’t want to miss it! \nSchedule of Events5:00pm: DJ NappiCraft vendors\, food truck\, beer garden and kid zone open at 5pm6:30-7pm: That 70’s Band7-7:15pm: DXC & Town officials7:15-7:30pm: That 70’s Band7:35-7:50pm: Alicia7:55-8:10pm: Lime8:15-8:35pm: Sugar Hill8:40-8:55pm: France Joli9:00-9:30pm: Tavares9:35-9:40pm: Encore9:40-9:55pm: Drone Show
URL:https://townofhempsteadevents.com/event/midsummer-concert/
LOCATION:Town Park Point Lookout\, 1300 Lido Blvd\, Point Lookout\, NY\, 11569\, United States
CATEGORIES:Summer Concert
ATTACH;FMTTYPE=image/jpeg:https://townofhempsteadevents.com/wp-content/uploads/2025/02/Concert.jpg
END:VEVENT
END:VCALENDAR